BEGIN:VCALENDAR
VERSION:2.0
PRODID:-//eventon.com NONSGML v1.0//EN
CALSCALE:GREGORIAN
METHOD:PUBLISH
BEGIN:VEVENT
UID:69e9ca1cac769
DTSTAMP:20260423T072828Z
DTSTART:20260419T233000Z
DTEND:20260420T010000Z
LOCATION:Windgate Center for Fine and Performing Arts Donaghey Ave.
SUMMARY:Residency at Central Arkansas University
DESCRIPTION:Residency at Central Arkansas University\nhttps://www.michaelno
 ble.net/events/residency-at-virginia-tech/
URL:https://www.michaelnoble.net/events/residency-at-virginia-tech/
END:VEVENT
END:VCALENDAR