BEGIN:VCALENDAR
VERSION:2.0
PRODID:-//eventon.com NONSGML v1.0//EN
CALSCALE:GREGORIAN
METHOD:PUBLISH
BEGIN:VEVENT
UID:69ecc28137ab7
DTSTAMP:20260425T133249Z
DTSTART:20260920T150000Z
DTEND:20260920T163000Z
LOCATION:Springfield Presbyterian Church 7300 Spout Hill Rd
SUMMARY:Springfield Presbyterian Concert Series\,  Skyesville\,  MD
DESCRIPTION:Springfield Presbyterian Concert Series\,  Skyesville\,  MD\nht
 tps://www.michaelnoble.net/events/concert-at-world-bank-washington-dc/
URL:https://www.michaelnoble.net/events/concert-at-world-bank-washington-dc/
END:VEVENT
END:VCALENDAR