BEGIN:VCALENDAR
VERSION:2.0
PRODID:-//eventon.com NONSGML v1.0//EN
CALSCALE:GREGORIAN
METHOD:PUBLISH
BEGIN:VEVENT
UID:69e9c9f2ead2c
DTSTAMP:20260423T072746Z
DTSTART:20260524T233000Z
DTEND:20260525T010000Z
LOCATION:
SUMMARY:Emerson Avenue Salons (Invitation Only)
DESCRIPTION:Emerson Avenue Salons (Invitation Only)\nhttps://www.michaelnob
 le.net/events/emerson-avenue-salons-invitation-only/
URL:https://www.michaelnoble.net/events/emerson-avenue-salons-invitation-only/
END:VEVENT
END:VCALENDAR