BEGIN:VCALENDAR
VERSION:2.0
PRODID:-//eventon.com NONSGML v1.0//EN
CALSCALE:GREGORIAN
METHOD:PUBLISH
BEGIN:VEVENT
UID:69e9ca172e092
DTSTAMP:20260423T072823Z
DTSTART:20260412T163000Z
DTEND:20260412T180000Z
LOCATION:
SUMMARY:Salon Concert\,  Falls Church\,  VA (DM for details)
DESCRIPTION:Salon Concert\,  Falls Church\,  VA (DM for details)\nhttps://w
 ww.michaelnoble.net/events/salon-concert-invitation-only/
URL:https://www.michaelnoble.net/events/salon-concert-invitation-only/
END:VEVENT
END:VCALENDAR