BEGIN:VCALENDAR
VERSION:2.0
PRODID:-//eventon.com NONSGML v1.0//EN
CALSCALE:GREGORIAN
METHOD:PUBLISH
BEGIN:VEVENT
UID:69e9ca1185d4f
DTSTAMP:20260423T072817Z
DTSTART:20260411T193000Z
DTEND:20260411T210000Z
LOCATION:
SUMMARY:Salon Concert\,  Washington\,  D.C. (DM for details)
DESCRIPTION:Salon Concert\,  Washington\,  D.C. (DM for details)\nhttps://w
 ww.michaelnoble.net/events/salon-concert-in-washington-d-c-dm-for-details/
URL:https://www.michaelnoble.net/events/salon-concert-in-washington-d-c-dm-for-details/
END:VEVENT
END:VCALENDAR