BEGIN:VCALENDAR
VERSION:2.0
PRODID:-//eventon.com NONSGML v1.0//EN
CALSCALE:GREGORIAN
METHOD:PUBLISH
BEGIN:VEVENT
UID:69e9c981a7ef8
DTSTAMP:20260423T072553Z
DTSTART:20260802T163000Z
DTEND:20260802T180000Z
LOCATION:
SUMMARY:Music on Lake Barcroft\,  Falls Church\,  VA
DESCRIPTION:Music on Lake Barcroft\,  Falls Church\,  VA\nhttps://www.micha
 elnoble.net/events/music-on-lake-barcroft-falls-church-va-dm-for-details-co
 py/
URL:https://www.michaelnoble.net/events/music-on-lake-barcroft-falls-church-va-dm-for-details-copy/
END:VEVENT
END:VCALENDAR